BEGIN:VCALENDAR
VERSION:2.0
PRODID:-//Concept - ECPv6.15.20//NONSGML v1.0//EN
CALSCALE:GREGORIAN
METHOD:PUBLISH
X-ORIGINAL-URL:https://www.conceptmachine.com
X-WR-CALDESC:Events for Concept
REFRESH-INTERVAL;VALUE=DURATION:PT1H
X-Robots-Tag:noindex
X-PUBLISHED-TTL:PT1H
BEGIN:VTIMEZONE
TZID:America/Chicago
BEGIN:DAYLIGHT
TZOFFSETFROM:-0600
TZOFFSETTO:-0500
TZNAME:CDT
DTSTART:20210314T080000
END:DAYLIGHT
BEGIN:STANDARD
TZOFFSETFROM:-0500
TZOFFSETTO:-0600
TZNAME:CST
DTSTART:20211107T070000
END:STANDARD
BEGIN:DAYLIGHT
TZOFFSETFROM:-0600
TZOFFSETTO:-0500
TZNAME:CDT
DTSTART:20220313T080000
END:DAYLIGHT
BEGIN:STANDARD
TZOFFSETFROM:-0500
TZOFFSETTO:-0600
TZNAME:CST
DTSTART:20221106T070000
END:STANDARD
BEGIN:DAYLIGHT
TZOFFSETFROM:-0600
TZOFFSETTO:-0500
TZNAME:CDT
DTSTART:20230312T080000
END:DAYLIGHT
BEGIN:STANDARD
TZOFFSETFROM:-0500
TZOFFSETTO:-0600
TZNAME:CST
DTSTART:20231105T070000
END:STANDARD
BEGIN:DAYLIGHT
TZOFFSETFROM:-0600
TZOFFSETTO:-0500
TZNAME:CDT
DTSTART:20240310T080000
END:DAYLIGHT
BEGIN:STANDARD
TZOFFSETFROM:-0500
TZOFFSETTO:-0600
TZNAME:CST
DTSTART:20241103T070000
END:STANDARD
BEGIN:DAYLIGHT
TZOFFSETFROM:-0600
TZOFFSETTO:-0500
TZNAME:CDT
DTSTART:20250309T080000
END:DAYLIGHT
BEGIN:STANDARD
TZOFFSETFROM:-0500
TZOFFSETTO:-0600
TZNAME:CST
DTSTART:20251102T070000
END:STANDARD
END:VTIMEZONE
BEGIN:VEVENT
DTSTART;TZID=America/Chicago:20241206T110000
DTEND;TZID=America/Chicago:20241206T140000
DTSTAMP:20260425T210446
CREATED:20241204T154048Z
LAST-MODIFIED:20241204T161910Z
UID:10316-1733482800-1733493600@www.conceptmachine.com
SUMMARY:Milltronics CNC Lunch-n-Learn at Mid-State Tech
DESCRIPTION:Mid-State Technical College in Stevens Point\, WI\, is hosting a Milltronics CNC Lunch-n-Learn on Friday\, December 6\, 2024 from 11:00 AM – 2:00 PM. \nKey highlights: \n\nMilltronics Conversational Programming techniques\nOffline CAM software and benefits\nLive machine demo’s and advanced application techniques\nComplimentary lunch served from 11:00 AM – 12:00 PM\n\nLocation: Mid-State Technical College\, 5000 Coye Dr.\, Stevens Point\, WI 54481 \nCall 262.646.4488 to RSVP for lunch and save your spot!
URL:https://www.conceptmachine.com/event/milltronics-cnc-lunch-n-learn-at-mid-state-tech/
LOCATION:Concept Wisconsin\, 407 Austin Circle\, Delafield\, WI\, 53018\, United States
ATTACH;FMTTYPE=image/jpeg:https://www.conceptmachine.com/wp-content/uploads/2024/12/Milltronics-Lunch-n-Learn-at-Mid-State-post-image.jpg
END:VEVENT
BEGIN:VEVENT
DTSTART;TZID=America/Chicago:20241114T090000
DTEND;TZID=America/Chicago:20241114T150000
DTSTAMP:20260425T210446
CREATED:20241111T172400Z
LAST-MODIFIED:20241111T172400Z
UID:10293-1731574800-1731596400@www.conceptmachine.com
SUMMARY:Gravotech Open House
DESCRIPTION:Do you need help choosing the right laser marking technology? Concept is pleased to inform you that Gravotech will be showcasing its latest innovations at our Delafield\, Wisconsin facility Thursday\, November 14th from 9:00 am to 3:00 pm! It will be a day full of excitement\, innovation\, networking and FREE FOOD! \nRegister below: \nPlease enable JavaScript in your browser to complete this form.Name *FirstLastCompany Name *City *State *Email *I would like to receive email updates regarding future conferencesSubmit
URL:https://www.conceptmachine.com/event/gravotech-open-house/
LOCATION:Concept Wisconsin\, 407 Austin Circle\, Delafield\, WI\, 53018\, United States
ATTACH;FMTTYPE=image/jpeg:https://www.conceptmachine.com/wp-content/uploads/2024/11/Gravotech-Event-screen-shot-1.jpg
END:VEVENT
BEGIN:VEVENT
DTSTART;TZID=America/Chicago:20230912T100000
DTEND;TZID=America/Chicago:20230913T143000
DTSTAMP:20260425T210446
CREATED:20230807T124723Z
LAST-MODIFIED:20230807T124723Z
UID:9269-1694512800-1694615400@www.conceptmachine.com
SUMMARY:Advanced Wire EDM Training - for MV Users
DESCRIPTION:Join us Tuesday\, September 12 or Wednesday\, September 13 from 10AM-2:30PM\nAdvanced Training on your Wire EDM Machine can save you time and make your processes more profitable. Join us at Concept for our Technical Seminar. Mitsubishi’s team of product experts will be here all day to explain processes and product improvements to you. \nEnjoy a catered lunch and learn more about how to get the most out of your machine. \nEnter DAILY for a chance to win:\n– $1000 consumables package\n– 2DCam (1 Seat)\nTopics Include: \n\nWire EDM Optimization / Advanced Cutting Strategies\n2DCAM: Tips & Tricks\nThere will be a question and answer session\, so bring your questions!\n\nRegistration required and space is limited! Call Concept today at 262.646.4488.
URL:https://www.conceptmachine.com/event/advanced-wire-edm-training-for-mv-users/
LOCATION:Concept Wisconsin\, 407 Austin Circle\, Delafield\, WI\, 53018\, United States
ATTACH;FMTTYPE=image/jpeg:https://www.conceptmachine.com/wp-content/uploads/2023/08/Advanced-Wire-EDM-WI.jpg
END:VEVENT
BEGIN:VEVENT
DTSTART;TZID=America/Chicago:20230622T100000
DTEND;TZID=America/Chicago:20230622T140000
DTSTAMP:20260425T210446
CREATED:20230518T143720Z
LAST-MODIFIED:20230606T125731Z
UID:9078-1687428000-1687442400@www.conceptmachine.com
SUMMARY:WI Lunch and Learn: Prolink's Newest Abilities!
DESCRIPTION:Join us to get hands-on experience with Prolink’s newest abilities.\nIt’s not just QC-CALC anymore. Wouldn’t it be nice… \n\nif the quality status of the entire plant could be viewed on one screen?\nto have a summary of yesterday’s quality performance by department or product line sitting in your inbox when you come to work in the morning?\nto automate all the reports your customers demand?\nif Gage R&R’s could be done with the same software you use to collect data?\n\nLearn how they make managing and getting a payback from collected quality data easier than ever before. The combo of flexible visualization and reporting supported by unsurpassed breadth of data collection capability makes Prolink the best ROI in the industry. \nSign up below! \nPlease enable JavaScript in your browser to complete this form.Name *FirstLastCompany Name *City *State *Email *I would like to receive email updates regarding future conferencesSubmit
URL:https://www.conceptmachine.com/event/wi-lunch-and-learn-prolinks-newest-abilities/
LOCATION:Concept Wisconsin\, 407 Austin Circle\, Delafield\, WI\, 53018\, United States
ATTACH;FMTTYPE=image/jpeg:https://www.conceptmachine.com/wp-content/uploads/2023/05/ProlinkSoftware_withLogo.jpg
END:VEVENT
BEGIN:VEVENT
DTSTART;TZID=America/Chicago:20230213T080000
DTEND;TZID=America/Chicago:20230214T163000
DTSTAMP:20260425T210446
CREATED:20211221T155253Z
LAST-MODIFIED:20230127T154422Z
UID:5671-1676275200-1676392200@www.conceptmachine.com
SUMMARY:Quality Training - DIMENSIONAL MEASUREMENT TOOLS (Basics)
DESCRIPTION:This program provides a fundamental and practical review of Basic Dimensional Measurement Tools and Methods\, including variable gages such as steel rules\, depth and dial gages\, micrometers\, and calipers. In addition\, attribute gages such as plug\, ring and screw thread gages are covered. \nTo register visit here: Dimensional Measurement Tools – Basics | QC Training Services\, Inc (qctraininginc.com)
URL:https://www.conceptmachine.com/event/quality-training-dimensional-measurement-tools-basics/
LOCATION:Concept Wisconsin\, 407 Austin Circle\, Delafield\, WI\, 53018\, United States
ATTACH;FMTTYPE=image/jpeg:https://www.conceptmachine.com/wp-content/uploads/2021/12/Dimensional-Measurement-Tools.jpg
END:VEVENT
BEGIN:VEVENT
DTSTART;TZID=America/Chicago:20220517T100000
DTEND;TZID=America/Chicago:20220518T190000
DTSTAMP:20260425T210446
CREATED:20210622T192408Z
LAST-MODIFIED:20220419T124854Z
UID:4933-1652781600-1652900400@www.conceptmachine.com
SUMMARY:SteakFest 2022 in Wisconsin: May 17-18
DESCRIPTION:Registration is open for SteakFest 2022 in Wisconsin!  Visit here for more information and to register:\nhttps://www.conceptmachine.com/wi-steakfest-2022-registration/ \n  \n 
URL:https://www.conceptmachine.com/event/steakfest-2022-in-wisconsin-may-17-18/
LOCATION:Concept Wisconsin\, 407 Austin Circle\, Delafield\, WI\, 53018\, United States
ATTACH;FMTTYPE=image/jpeg:https://www.conceptmachine.com/wp-content/uploads/2021/06/SteakFest2022_RegistrationIsOpen_EventForm.jpg
END:VEVENT
BEGIN:VEVENT
DTSTART;TZID=America/Chicago:20220419T093000
DTEND;TZID=America/Chicago:20220419T143000
DTSTAMP:20260425T210446
CREATED:20220401T184510Z
LAST-MODIFIED:20220407T143700Z
UID:6507-1650360600-1650378600@www.conceptmachine.com
SUMMARY:ZEISS Hands On Metrology Event in Delafield\, WI
DESCRIPTION:The #HandsOnMetrology Tour Event\, a joint initiative powered by ZEISS and GOM\, will take place from 9:30AM – 2:30PM on April 19th. During three short workshops\, you will get a first-hand view of three 3D scanning solutions – and discover what they can do for your business: \nGOM Scan 1 \nT-SCAN Hawk \nATOS Q \nRegister below!  A boxed lunch will be provided to all attendees. \n\n\n\nPlease enable JavaScript in your browser to complete this form.Name *FirstLastCompany *Address *Address Line 1Address Line 2City--- Select state ---AlabamaAlaskaArizonaArkansasCaliforniaColoradoConnecticutDelawareDistrict of ColumbiaFloridaGeorgiaHawaiiIdahoIllinoisIndianaIowaKansasKentuckyLouisianaMaineMarylandMassachusettsMichiganMinnesotaMississippiMissouriMontanaNebraskaNevadaNew HampshireNew JerseyNew MexicoNew YorkNorth CarolinaNorth DakotaOhioOklahomaOregonPennsylvaniaRhode IslandSouth CarolinaSouth DakotaTennesseeTexasUtahVermontVirginiaWashingtonWest VirginiaWisconsinWyomingStateZip CodeEmail *Phone (optional)MessageSubmit Registration!
URL:https://www.conceptmachine.com/event/zeiss-hands-on-metrology-event-in-delafield-wi/
LOCATION:Concept Wisconsin\, 407 Austin Circle\, Delafield\, WI\, 53018\, United States
ATTACH;FMTTYPE=image/jpeg:https://www.conceptmachine.com/wp-content/uploads/2021/12/StLouis-HOM-Event.jpg
END:VEVENT
END:VCALENDAR