BEGIN:VCALENDAR
VERSION:2.0
PRODID:-//Concept - ECPv6.15.20//NONSGML v1.0//EN
CALSCALE:GREGORIAN
METHOD:PUBLISH
X-WR-CALNAME:Concept
X-ORIGINAL-URL:https://www.conceptmachine.com
X-WR-CALDESC:Events for Concept
REFRESH-INTERVAL;VALUE=DURATION:PT1H
X-Robots-Tag:noindex
X-PUBLISHED-TTL:PT1H
BEGIN:VTIMEZONE
TZID:America/Chicago
BEGIN:DAYLIGHT
TZOFFSETFROM:-0600
TZOFFSETTO:-0500
TZNAME:CDT
DTSTART:20210314T080000
END:DAYLIGHT
BEGIN:STANDARD
TZOFFSETFROM:-0500
TZOFFSETTO:-0600
TZNAME:CST
DTSTART:20211107T070000
END:STANDARD
BEGIN:DAYLIGHT
TZOFFSETFROM:-0600
TZOFFSETTO:-0500
TZNAME:CDT
DTSTART:20220313T080000
END:DAYLIGHT
BEGIN:STANDARD
TZOFFSETFROM:-0500
TZOFFSETTO:-0600
TZNAME:CST
DTSTART:20221106T070000
END:STANDARD
BEGIN:DAYLIGHT
TZOFFSETFROM:-0600
TZOFFSETTO:-0500
TZNAME:CDT
DTSTART:20230312T080000
END:DAYLIGHT
BEGIN:STANDARD
TZOFFSETFROM:-0500
TZOFFSETTO:-0600
TZNAME:CST
DTSTART:20231105T070000
END:STANDARD
BEGIN:DAYLIGHT
TZOFFSETFROM:-0600
TZOFFSETTO:-0500
TZNAME:CDT
DTSTART:20240310T080000
END:DAYLIGHT
BEGIN:STANDARD
TZOFFSETFROM:-0500
TZOFFSETTO:-0600
TZNAME:CST
DTSTART:20241103T070000
END:STANDARD
BEGIN:DAYLIGHT
TZOFFSETFROM:-0600
TZOFFSETTO:-0500
TZNAME:CDT
DTSTART:20250309T080000
END:DAYLIGHT
BEGIN:STANDARD
TZOFFSETFROM:-0500
TZOFFSETTO:-0600
TZNAME:CST
DTSTART:20251102T070000
END:STANDARD
BEGIN:DAYLIGHT
TZOFFSETFROM:-0600
TZOFFSETTO:-0500
TZNAME:CDT
DTSTART:20260308T080000
END:DAYLIGHT
BEGIN:STANDARD
TZOFFSETFROM:-0500
TZOFFSETTO:-0600
TZNAME:CST
DTSTART:20261101T070000
END:STANDARD
BEGIN:DAYLIGHT
TZOFFSETFROM:-0600
TZOFFSETTO:-0500
TZNAME:CDT
DTSTART:20270314T080000
END:DAYLIGHT
BEGIN:STANDARD
TZOFFSETFROM:-0500
TZOFFSETTO:-0600
TZNAME:CST
DTSTART:20271107T070000
END:STANDARD
END:VTIMEZONE
BEGIN:VEVENT
DTSTART;TZID=America/Chicago:20260311T100000
DTEND;TZID=America/Chicago:20260311T130000
DTSTAMP:20260425T191950
CREATED:20260211T212213Z
LAST-MODIFIED:20260211T212741Z
UID:11901-1773223200-1773234000@www.conceptmachine.com
SUMMARY:Asset Management Lunch & Learn With IndySoft
DESCRIPTION:  \n  \nASSET MANAGEMENT: IMPROVE VISIBILITY\, COMPLIANCE\, AND ROI\nJoin us for a practical overview of asset management challenges in manufacturing and how IndySoft Asset Manager (IAM) helps improve visibility\, maintenance\, compliance\, and ROI. Learn who IAM is for\, what it enables\, and how organizations reduce downtime and manual tracking thorugh centralized asset data. \nLunch & Learn Agenda: \n\nIntroducing IndySoft & IndySoft Asset Manager (IAM)\nWelcome & IndySoft Overview: Setting the stage and session goals\nThe Asset Management Challenge: Common pain points in asset-intensive operations\nIndySoft (IAM) Overview: Asset tracking\, maintenance\, calibration\, and reporting\nBusiness Value & ROI: Operational and financial impact of centralized asset data\nWho IAM Is For: Maintenance\, operations\, quality\, engineering\, leadership\nWrap-Up & Q&A: Key takeaways and next steps\n\n  \nREGISTER HERE\nPlease enable JavaScript in your browser to complete this form.Name *FirstLastCompany Name *City *State *Email *Which session do you plan to attend? *Wednesday\, March 11thI would like to receive email updates regarding future conferencesSubmit
URL:https://www.conceptmachine.com/event/asset-management-lunch-learn-with-indysoft/
LOCATION:Concept Wisconsin\, 407 Austin Circle\, Delafield\, WI\, 53018\, United States
END:VEVENT
BEGIN:VEVENT
DTSTART;TZID=America/Chicago:20251211T080000
DTEND;TZID=America/Chicago:20251212T163000
DTSTAMP:20260425T191950
CREATED:20211014T152855Z
LAST-MODIFIED:20251105T160800Z
UID:5245-1765440000-1765557000@www.conceptmachine.com
SUMMARY:GD&T Fundamentals Quality Training Class
DESCRIPTION:This GD&T Fundamentals training workshop introduces the student to the basics of the Geometric Dimensioning and Tolerancing of the ASME Y14.5M-2018 standard. It covers terms\, definitions\, and rules\, followed by a close look at the purpose for each of the 14 GD&T symbols. \nUSD $850 \nCourse Delivery: In-Person Training \nSee GD&T Fundamentals page for full course description and all course delivery options.  \nEvent Details \n\nStart date: December 11\, 2025\nEnd date: December 12\, 2025\nStart time: 08:00 a.m. CDT\nEnd time: 04:30 p.m. CDT\nVenue: Concept in Delafield\, WI\n\nREGISTER HERE
URL:https://www.conceptmachine.com/event/quality-training-gdt-fundamentals/
LOCATION:Concept Wisconsin\, 407 Austin Circle\, Delafield\, WI\, 53018\, United States
ATTACH;FMTTYPE=image/png:https://www.conceptmachine.com/wp-content/uploads/2021/12/Depositphotos_27063503_GDT-768x436-1.png
END:VEVENT
BEGIN:VEVENT
DTSTART;TZID=America/Chicago:20251015T100000
DTEND;TZID=America/Chicago:20251016T140000
DTSTAMP:20260425T191950
CREATED:20231109T185453Z
LAST-MODIFIED:20250904T145003Z
UID:11336-1760522400-1760623200@www.conceptmachine.com
SUMMARY:ZEISS CALYPSO Users Group at Concept Wisconsin
DESCRIPTION:Back by popular demand\, Concept is excited to announce the return of the ZEISS CALYPSO Users Group in October 2025! \nThis one-day technical training and networking event is a great way to get even more productivity out of your ZEISS Systems. Learn tips\, techniques and best practices from the Concept applications team as well as your fellow ZEISS CALYPSO users. \nMake plans now to attend on: \n\nTuesday\, October 14th\nOR Wednesday\, October 15th\n\nRegardless of if you’re an existing ZEISS CALYPSO expert or just getting started – this event will be a great refresher for any current user. \nTOPICS that will be covered:\n \n\nNEW features & functionality in ZEISS CALYPSO 2025\nOffline Planner / Simulation / Stylus Creator\nO-Inspect new functions and optimization\n\nLunch and refreshments will be provided for all attendees\, compliments of Concept and ZEISS. \nREGISTER BELOW for the ZEISS CALYPSO Users Group in Delafield\, WI: \n\n\n\nPlease enable JavaScript in your browser to complete this form.Name *FirstLastCompany Name *City *State *Email *Which session do you plan to attend? *Tuesday\, October 14thWednesday\, October 15thI would like to receive email updates regarding future conferencesSubmit
URL:https://www.conceptmachine.com/event/zeiss-calypso-users-group/2025-10-15/
LOCATION:Concept Wisconsin\, 407 Austin Circle\, Delafield\, WI\, 53018\, United States
ATTACH;FMTTYPE=image/jpeg:https://www.conceptmachine.com/wp-content/uploads/2023/11/2024-Calypso-Event-Header.jpg
END:VEVENT
BEGIN:VEVENT
DTSTART;TZID=America/Chicago:20251014T100000
DTEND;TZID=America/Chicago:20251015T140000
DTSTAMP:20260425T191950
CREATED:20231109T185453Z
LAST-MODIFIED:20250904T145003Z
UID:9341-1760436000-1760536800@www.conceptmachine.com
SUMMARY:ZEISS CALYPSO Users Group at Concept Wisconsin
DESCRIPTION:Back by popular demand\, Concept is excited to announce the return of the ZEISS CALYPSO Users Group in October 2025! \nThis one-day technical training and networking event is a great way to get even more productivity out of your ZEISS Systems. Learn tips\, techniques and best practices from the Concept applications team as well as your fellow ZEISS CALYPSO users. \nMake plans now to attend on: \n\nTuesday\, October 14th\nOR Wednesday\, October 15th\n\nRegardless of if you’re an existing ZEISS CALYPSO expert or just getting started – this event will be a great refresher for any current user. \nTOPICS that will be covered:\n \n\nNEW features & functionality in ZEISS CALYPSO 2025\nOffline Planner / Simulation / Stylus Creator\nO-Inspect new functions and optimization\n\nLunch and refreshments will be provided for all attendees\, compliments of Concept and ZEISS. \nREGISTER BELOW for the ZEISS CALYPSO Users Group in Delafield\, WI: \n\n\n\nPlease enable JavaScript in your browser to complete this form.Name *FirstLastCompany Name *City *State *Email *Which session do you plan to attend? *Tuesday\, October 14thWednesday\, October 15thI would like to receive email updates regarding future conferencesSubmit
URL:https://www.conceptmachine.com/event/zeiss-calypso-users-group/2025-10-14/
LOCATION:Concept Wisconsin\, 407 Austin Circle\, Delafield\, WI\, 53018\, United States
ATTACH;FMTTYPE=image/jpeg:https://www.conceptmachine.com/wp-content/uploads/2023/11/2024-Calypso-Event-Header.jpg
END:VEVENT
BEGIN:VEVENT
DTSTART;TZID=America/Chicago:20250917T100000
DTEND;TZID=America/Chicago:20250917T143000
DTSTAMP:20260425T191950
CREATED:20250807T153943Z
LAST-MODIFIED:20250807T154854Z
UID:11235-1758103200-1758119400@www.conceptmachine.com
SUMMARY:BASIC & ADVANCED Wire EDM Training
DESCRIPTION:Are you getting the maximum productivity from your Wire EDM’s? \nIf not\, join Concept and Mitsubishi for a Lunch-n-Learn to discover tips and techniques to maximize your efficiency! \nTuesday\, September 16th: BASIC Wire EDM training for “green” or any new MV Wire EDM Operators. \nWednesday\, September 17th: ADVANCED Wire EDM training including EDM optimization and advanced cutting strategies. \nREGISTER BELOW! \nPlease enable JavaScript in your browser to complete this form.Name *FirstLastCompany Name *City *State *Email *Multiple Choice *BASIC EDM Training - Tuesday\, Sept. 16thADVANCED EDM Training - Wednesday\, Sept. 17thPlease list any food allergies or specific dietary requests:Submit  \n 
URL:https://www.conceptmachine.com/event/mitsubishi-basic-advanced-wire-edm-training/2025-09-17/
LOCATION:Concept Wisconsin\, 407 Austin Circle\, Delafield\, WI\, 53018\, United States
ATTACH;FMTTYPE=image/jpeg:https://www.conceptmachine.com/wp-content/uploads/2025/08/Event-page-header.jpg
END:VEVENT
BEGIN:VEVENT
DTSTART;TZID=America/Chicago:20250916T100000
DTEND;TZID=America/Chicago:20250916T143000
DTSTAMP:20260425T191950
CREATED:20250807T153943Z
LAST-MODIFIED:20250807T154854Z
UID:11233-1758016800-1758033000@www.conceptmachine.com
SUMMARY:BASIC & ADVANCED Wire EDM Training
DESCRIPTION:Are you getting the maximum productivity from your Wire EDM’s? \nIf not\, join Concept and Mitsubishi for a Lunch-n-Learn to discover tips and techniques to maximize your efficiency! \nTuesday\, September 16th: BASIC Wire EDM training for “green” or any new MV Wire EDM Operators. \nWednesday\, September 17th: ADVANCED Wire EDM training including EDM optimization and advanced cutting strategies. \nREGISTER BELOW! \nPlease enable JavaScript in your browser to complete this form.Name *FirstLastCompany Name *City *State *Email *Multiple Choice *BASIC EDM Training - Tuesday\, Sept. 16thADVANCED EDM Training - Wednesday\, Sept. 17thPlease list any food allergies or specific dietary requests:Submit  \n 
URL:https://www.conceptmachine.com/event/mitsubishi-basic-advanced-wire-edm-training/2025-09-16/
LOCATION:Concept Wisconsin\, 407 Austin Circle\, Delafield\, WI\, 53018\, United States
ATTACH;FMTTYPE=image/jpeg:https://www.conceptmachine.com/wp-content/uploads/2025/08/Event-page-header.jpg
END:VEVENT
BEGIN:VEVENT
DTSTART;TZID=America/Chicago:20250909T080000
DTEND;TZID=America/Chicago:20250910T163000
DTSTAMP:20260425T191950
CREATED:20211221T160522Z
LAST-MODIFIED:20250701T140643Z
UID:5679-1757404800-1757521800@www.conceptmachine.com
SUMMARY:Quality Training - Measurement Uncertainty Budgets
DESCRIPTION:QC Training Services’ Measurement Uncertainty Budgets class is perfect for calibration technicians\, quality managers\, engineers\, quality technicians\, and other users of uncertainty budgets. All measurements are subject to uncertainty and a measured value is only complete if it is accompanied by a statement of the associated uncertainty. This class will help you calculate the probability of the uncertainty and ensure your measurement system is compliant with ISO 17025. Covered in the training will be basic terminology\, basic statistical concepts\, computations and correlations\, as well as how to analyze and interpret data. Within this class we will also review the ISO Guide to the Expression of Uncertainty in Measurement (GUM). \nFor details and to register visit here.
URL:https://www.conceptmachine.com/event/quality-training-measurement-uncertainty-budgets/
LOCATION:Concept Wisconsin\, 407 Austin Circle\, Delafield\, WI\, 53018\, United States
ATTACH;FMTTYPE=image/jpeg:https://www.conceptmachine.com/wp-content/uploads/2021/12/Measurement-Uncertainty-Budgets-scaled-1.jpg
END:VEVENT
BEGIN:VEVENT
DTSTART;TZID=America/Chicago:20250731T080000
DTEND;TZID=America/Chicago:20250801T163000
DTSTAMP:20260425T191950
CREATED:20230712T142445Z
LAST-MODIFIED:20251020T155404Z
UID:9221-1753948800-1754065800@www.conceptmachine.com
SUMMARY:Quality Training - Print Reading for Industry
DESCRIPTION:This basic print reading program explains the importance of engineering drawings in manufacturing and thoroughly describes the generation and duplication of such drawings. It discusses the basic elements of a blueprint and introduces the concepts which students must master to successfully interpret engineering drawings. No prior knowledge of drafting or drawing is assumed. This blueprint reading training covers the principles of shop sketching\, basic review of shop mathematics\, and use of common measuring tools. \nVisit here to register.
URL:https://www.conceptmachine.com/event/quality-training-print-reading-for-industry/
LOCATION:Concept Wisconsin\, 407 Austin Circle\, Delafield\, WI\, 53018\, United States
ATTACH;FMTTYPE=image/jpeg:https://www.conceptmachine.com/wp-content/uploads/2021/12/Print-reading-for-Industry.jpg
END:VEVENT
BEGIN:VEVENT
DTSTART;TZID=America/Chicago:20250612T080000
DTEND;TZID=America/Chicago:20250613T163000
DTSTAMP:20260425T191950
CREATED:20240702T152618Z
LAST-MODIFIED:20250421T125420Z
UID:9915-1749715200-1749832200@www.conceptmachine.com
SUMMARY:Quality Training - Quality 101 Foundational Concepts
DESCRIPTION:This class is designed to spark a fire for the love of Quality through an introduction of what quality is and its benefits. This class explores the main areas of Quality – foundational concepts and vocabulary\, basic tools and methods\, and tools that can be applied on the job immediately. \nFor more details and to register visit here.
URL:https://www.conceptmachine.com/event/quality-training-quality-101-foundational-concepts-2/
LOCATION:Concept Wisconsin\, 407 Austin Circle\, Delafield\, WI\, 53018\, United States
ATTACH;FMTTYPE=image/jpeg:https://www.conceptmachine.com/wp-content/uploads/2023/01/Depositphotos_27250765_original-scaled_cropped.jpg
END:VEVENT
BEGIN:VEVENT
DTSTART;TZID=America/Chicago:20250403T080000
DTEND;TZID=America/Chicago:20250404T163000
DTSTAMP:20260425T191950
CREATED:20211014T153722Z
LAST-MODIFIED:20250217T203047Z
UID:5249-1743667200-1743784200@www.conceptmachine.com
SUMMARY:Quality Training - GD&T ADVANCED CONCEPTS
DESCRIPTION:This course is a continuation of GD&T Fundamentals\, again focusing on practical GD&T applications and introducing additional advanced concepts. It provides further guidance on application of Geometric Dimensioning and Tolerancing as per the ASME Y14.5M-2018 standard. \nFor more details and to register visit here.
URL:https://www.conceptmachine.com/event/quality-training-gdt-advanced-concepts/
LOCATION:Concept Wisconsin\, 407 Austin Circle\, Delafield\, WI\, 53018\, United States
ATTACH;FMTTYPE=image/jpeg:https://www.conceptmachine.com/wp-content/uploads/2021/10/GDT-Advanced-Concepts.jpg
END:VEVENT
BEGIN:VEVENT
DTSTART;TZID=America/Chicago:20250318T103000
DTEND;TZID=America/Chicago:20250318T130000
DTSTAMP:20260425T191950
CREATED:20240404T162845Z
LAST-MODIFIED:20250210T170552Z
UID:9658-1742293800-1742302800@www.conceptmachine.com
SUMMARY:Lunch and Learn at Concept Wisconsin: When do I need to consider a HMC?
DESCRIPTION:Come and learn how a Horizontal Machining Center can increase efficiency and decrease labor hours!\nWhen: Tuesday\, March 18th\, 10:30 AM to 1:00 PM. Lunch will be provided.\nConcept and Kitamura Machinery Application Engineers will demonstrate the results of machining a “six-sided” Manifold Block on both a VMC and a HMC. You don’t need high volume to justify the investment. \nRegistration is required. Call 262.646.4488 or email jennyh@conceptmachine.com. Space is limited.
URL:https://www.conceptmachine.com/event/lunch-and-learn-at-concept-wisconsin-when-do-i-need-to-consider-a-hmc/
LOCATION:Concept Wisconsin\, 407 Austin Circle\, Delafield\, WI\, 53018\, United States
ATTACH;FMTTYPE=image/jpeg:https://www.conceptmachine.com/wp-content/uploads/2024/04/Capture-for-event-page.jpg
END:VEVENT
BEGIN:VEVENT
DTSTART;TZID=America/Chicago:20250211T093000
DTEND;TZID=America/Chicago:20250211T130000
DTSTAMP:20260425T191950
CREATED:20250116T214858Z
LAST-MODIFIED:20250116T221028Z
UID:10414-1739266200-1739278800@www.conceptmachine.com
SUMMARY:Torque 101 Lunch-n-Learn
DESCRIPTION:Concept has partnered with Williams to offer you quality torque products built to meet your needs. In this seminar you will learn why applying correct torque is critical to proper assembly and maintenance operations. \nIn addition\, you will: \n\nLearn how to handle torque wrenches safely and efficiently\nBroaden your knowledge of torque equipment and how it works\nIdentify and eliminate hazardous opportunities for individuals and equipment before they happen\n\nSchedule: \n\n9:30am check-in and donuts\n10:00am presentation starts\n11:30am lunch will be served\n12:00pm – 1:00pm Q&A including hands-on time checking out the tools!\n\nRegister below!
URL:https://www.conceptmachine.com/event/torque-101-lunch-n-learn/
LOCATION:Concept Wisconsin\, 407 Austin Circle\, Delafield\, WI\, 53018\, United States
ATTACH;FMTTYPE=image/jpeg:https://www.conceptmachine.com/wp-content/uploads/2025/01/Screenshot-2025-01-16-154335-1.jpg
END:VEVENT
BEGIN:VEVENT
DTSTART;TZID=America/Chicago:20241206T110000
DTEND;TZID=America/Chicago:20241206T140000
DTSTAMP:20260425T191950
CREATED:20241204T154048Z
LAST-MODIFIED:20241204T161910Z
UID:10316-1733482800-1733493600@www.conceptmachine.com
SUMMARY:Milltronics CNC Lunch-n-Learn at Mid-State Tech
DESCRIPTION:Mid-State Technical College in Stevens Point\, WI\, is hosting a Milltronics CNC Lunch-n-Learn on Friday\, December 6\, 2024 from 11:00 AM – 2:00 PM. \nKey highlights: \n\nMilltronics Conversational Programming techniques\nOffline CAM software and benefits\nLive machine demo’s and advanced application techniques\nComplimentary lunch served from 11:00 AM – 12:00 PM\n\nLocation: Mid-State Technical College\, 5000 Coye Dr.\, Stevens Point\, WI 54481 \nCall 262.646.4488 to RSVP for lunch and save your spot!
URL:https://www.conceptmachine.com/event/milltronics-cnc-lunch-n-learn-at-mid-state-tech/
LOCATION:Concept Wisconsin\, 407 Austin Circle\, Delafield\, WI\, 53018\, United States
ATTACH;FMTTYPE=image/jpeg:https://www.conceptmachine.com/wp-content/uploads/2024/12/Milltronics-Lunch-n-Learn-at-Mid-State-post-image.jpg
END:VEVENT
BEGIN:VEVENT
DTSTART;TZID=America/Chicago:20241114T090000
DTEND;TZID=America/Chicago:20241114T150000
DTSTAMP:20260425T191950
CREATED:20241111T172400Z
LAST-MODIFIED:20241111T172400Z
UID:10293-1731574800-1731596400@www.conceptmachine.com
SUMMARY:Gravotech Open House
DESCRIPTION:Do you need help choosing the right laser marking technology? Concept is pleased to inform you that Gravotech will be showcasing its latest innovations at our Delafield\, Wisconsin facility Thursday\, November 14th from 9:00 am to 3:00 pm! It will be a day full of excitement\, innovation\, networking and FREE FOOD! \nRegister below: \nPlease enable JavaScript in your browser to complete this form.Name *FirstLastCompany Name *City *State *Email *I would like to receive email updates regarding future conferencesSubmit
URL:https://www.conceptmachine.com/event/gravotech-open-house/
LOCATION:Concept Wisconsin\, 407 Austin Circle\, Delafield\, WI\, 53018\, United States
ATTACH;FMTTYPE=image/jpeg:https://www.conceptmachine.com/wp-content/uploads/2024/11/Gravotech-Event-screen-shot-1.jpg
END:VEVENT
BEGIN:VEVENT
DTSTART;TZID=America/Chicago:20230912T100000
DTEND;TZID=America/Chicago:20230913T143000
DTSTAMP:20260425T191950
CREATED:20230807T124723Z
LAST-MODIFIED:20230807T124723Z
UID:9269-1694512800-1694615400@www.conceptmachine.com
SUMMARY:Advanced Wire EDM Training - for MV Users
DESCRIPTION:Join us Tuesday\, September 12 or Wednesday\, September 13 from 10AM-2:30PM\nAdvanced Training on your Wire EDM Machine can save you time and make your processes more profitable. Join us at Concept for our Technical Seminar. Mitsubishi’s team of product experts will be here all day to explain processes and product improvements to you. \nEnjoy a catered lunch and learn more about how to get the most out of your machine. \nEnter DAILY for a chance to win:\n– $1000 consumables package\n– 2DCam (1 Seat)\nTopics Include: \n\nWire EDM Optimization / Advanced Cutting Strategies\n2DCAM: Tips & Tricks\nThere will be a question and answer session\, so bring your questions!\n\nRegistration required and space is limited! Call Concept today at 262.646.4488.
URL:https://www.conceptmachine.com/event/advanced-wire-edm-training-for-mv-users/
LOCATION:Concept Wisconsin\, 407 Austin Circle\, Delafield\, WI\, 53018\, United States
ATTACH;FMTTYPE=image/jpeg:https://www.conceptmachine.com/wp-content/uploads/2023/08/Advanced-Wire-EDM-WI.jpg
END:VEVENT
BEGIN:VEVENT
DTSTART;TZID=America/Chicago:20230622T100000
DTEND;TZID=America/Chicago:20230622T140000
DTSTAMP:20260425T191950
CREATED:20230518T143720Z
LAST-MODIFIED:20230606T125731Z
UID:9078-1687428000-1687442400@www.conceptmachine.com
SUMMARY:WI Lunch and Learn: Prolink's Newest Abilities!
DESCRIPTION:Join us to get hands-on experience with Prolink’s newest abilities.\nIt’s not just QC-CALC anymore. Wouldn’t it be nice… \n\nif the quality status of the entire plant could be viewed on one screen?\nto have a summary of yesterday’s quality performance by department or product line sitting in your inbox when you come to work in the morning?\nto automate all the reports your customers demand?\nif Gage R&R’s could be done with the same software you use to collect data?\n\nLearn how they make managing and getting a payback from collected quality data easier than ever before. The combo of flexible visualization and reporting supported by unsurpassed breadth of data collection capability makes Prolink the best ROI in the industry. \nSign up below! \nPlease enable JavaScript in your browser to complete this form.Name *FirstLastCompany Name *City *State *Email *I would like to receive email updates regarding future conferencesSubmit
URL:https://www.conceptmachine.com/event/wi-lunch-and-learn-prolinks-newest-abilities/
LOCATION:Concept Wisconsin\, 407 Austin Circle\, Delafield\, WI\, 53018\, United States
ATTACH;FMTTYPE=image/jpeg:https://www.conceptmachine.com/wp-content/uploads/2023/05/ProlinkSoftware_withLogo.jpg
END:VEVENT
BEGIN:VEVENT
DTSTART;TZID=America/Chicago:20230213T080000
DTEND;TZID=America/Chicago:20230214T163000
DTSTAMP:20260425T191950
CREATED:20211221T155253Z
LAST-MODIFIED:20230127T154422Z
UID:5671-1676275200-1676392200@www.conceptmachine.com
SUMMARY:Quality Training - DIMENSIONAL MEASUREMENT TOOLS (Basics)
DESCRIPTION:This program provides a fundamental and practical review of Basic Dimensional Measurement Tools and Methods\, including variable gages such as steel rules\, depth and dial gages\, micrometers\, and calipers. In addition\, attribute gages such as plug\, ring and screw thread gages are covered. \nTo register visit here: Dimensional Measurement Tools – Basics | QC Training Services\, Inc (qctraininginc.com)
URL:https://www.conceptmachine.com/event/quality-training-dimensional-measurement-tools-basics/
LOCATION:Concept Wisconsin\, 407 Austin Circle\, Delafield\, WI\, 53018\, United States
ATTACH;FMTTYPE=image/jpeg:https://www.conceptmachine.com/wp-content/uploads/2021/12/Dimensional-Measurement-Tools.jpg
END:VEVENT
BEGIN:VEVENT
DTSTART;TZID=America/Chicago:20220517T100000
DTEND;TZID=America/Chicago:20220518T190000
DTSTAMP:20260425T191950
CREATED:20210622T192408Z
LAST-MODIFIED:20220419T124854Z
UID:4933-1652781600-1652900400@www.conceptmachine.com
SUMMARY:SteakFest 2022 in Wisconsin: May 17-18
DESCRIPTION:Registration is open for SteakFest 2022 in Wisconsin!  Visit here for more information and to register:\nhttps://www.conceptmachine.com/wi-steakfest-2022-registration/ \n  \n 
URL:https://www.conceptmachine.com/event/steakfest-2022-in-wisconsin-may-17-18/
LOCATION:Concept Wisconsin\, 407 Austin Circle\, Delafield\, WI\, 53018\, United States
ATTACH;FMTTYPE=image/jpeg:https://www.conceptmachine.com/wp-content/uploads/2021/06/SteakFest2022_RegistrationIsOpen_EventForm.jpg
END:VEVENT
BEGIN:VEVENT
DTSTART;TZID=America/Chicago:20220419T093000
DTEND;TZID=America/Chicago:20220419T143000
DTSTAMP:20260425T191950
CREATED:20220401T184510Z
LAST-MODIFIED:20220407T143700Z
UID:6507-1650360600-1650378600@www.conceptmachine.com
SUMMARY:ZEISS Hands On Metrology Event in Delafield\, WI
DESCRIPTION:The #HandsOnMetrology Tour Event\, a joint initiative powered by ZEISS and GOM\, will take place from 9:30AM – 2:30PM on April 19th. During three short workshops\, you will get a first-hand view of three 3D scanning solutions – and discover what they can do for your business: \nGOM Scan 1 \nT-SCAN Hawk \nATOS Q \nRegister below!  A boxed lunch will be provided to all attendees. \n\n\n\nPlease enable JavaScript in your browser to complete this form.Name *FirstLastCompany *Address *Address Line 1Address Line 2City--- Select state ---AlabamaAlaskaArizonaArkansasCaliforniaColoradoConnecticutDelawareDistrict of ColumbiaFloridaGeorgiaHawaiiIdahoIllinoisIndianaIowaKansasKentuckyLouisianaMaineMarylandMassachusettsMichiganMinnesotaMississippiMissouriMontanaNebraskaNevadaNew HampshireNew JerseyNew MexicoNew YorkNorth CarolinaNorth DakotaOhioOklahomaOregonPennsylvaniaRhode IslandSouth CarolinaSouth DakotaTennesseeTexasUtahVermontVirginiaWashingtonWest VirginiaWisconsinWyomingStateZip CodeEmail *Phone (optional)CommentSubmit Registration!
URL:https://www.conceptmachine.com/event/zeiss-hands-on-metrology-event-in-delafield-wi/
LOCATION:Concept Wisconsin\, 407 Austin Circle\, Delafield\, WI\, 53018\, United States
ATTACH;FMTTYPE=image/jpeg:https://www.conceptmachine.com/wp-content/uploads/2021/12/StLouis-HOM-Event.jpg
END:VEVENT
END:VCALENDAR