BEGIN:VCALENDAR
VERSION:2.0
PRODID:-//Concept - ECPv6.15.20//NONSGML v1.0//EN
CALSCALE:GREGORIAN
METHOD:PUBLISH
X-WR-CALNAME:Concept
X-ORIGINAL-URL:https://www.conceptmachine.com
X-WR-CALDESC:Events for Concept
REFRESH-INTERVAL;VALUE=DURATION:PT1H
X-Robots-Tag:noindex
X-PUBLISHED-TTL:PT1H
BEGIN:VTIMEZONE
TZID:America/Chicago
BEGIN:DAYLIGHT
TZOFFSETFROM:-0600
TZOFFSETTO:-0500
TZNAME:CDT
DTSTART:20220313T080000
END:DAYLIGHT
BEGIN:STANDARD
TZOFFSETFROM:-0500
TZOFFSETTO:-0600
TZNAME:CST
DTSTART:20221106T070000
END:STANDARD
BEGIN:DAYLIGHT
TZOFFSETFROM:-0600
TZOFFSETTO:-0500
TZNAME:CDT
DTSTART:20230312T080000
END:DAYLIGHT
BEGIN:STANDARD
TZOFFSETFROM:-0500
TZOFFSETTO:-0600
TZNAME:CST
DTSTART:20231105T070000
END:STANDARD
BEGIN:DAYLIGHT
TZOFFSETFROM:-0600
TZOFFSETTO:-0500
TZNAME:CDT
DTSTART:20240310T080000
END:DAYLIGHT
BEGIN:STANDARD
TZOFFSETFROM:-0500
TZOFFSETTO:-0600
TZNAME:CST
DTSTART:20241103T070000
END:STANDARD
BEGIN:DAYLIGHT
TZOFFSETFROM:-0600
TZOFFSETTO:-0500
TZNAME:CDT
DTSTART:20250309T080000
END:DAYLIGHT
BEGIN:STANDARD
TZOFFSETFROM:-0500
TZOFFSETTO:-0600
TZNAME:CST
DTSTART:20251102T070000
END:STANDARD
END:VTIMEZONE
BEGIN:VEVENT
DTSTART;TZID=America/Chicago:20240220T080000
DTEND;TZID=America/Chicago:20240221T163000
DTSTAMP:20260425T224525
CREATED:20211014T151722Z
LAST-MODIFIED:20231213T210135Z
UID:5240-1708416000-1708533000@www.conceptmachine.com
SUMMARY:Quality Training: MEASUREMENT SYSTEMS ANALYSIS
DESCRIPTION:This program provides a fundamental and practical review of Measurement Systems Analysis. MSA is an excellent quality tool to use with any quality system and has direct application to ISO/IATF 16949. This course is recommended for anyone involved in quality planning or involved in the implementation of ISO/IATF 16949 and third-party auditors. Reference the complete Course Description and Agenda for additional details. \nTo register for this class visit here.
URL:https://www.conceptmachine.com/event/quality-training-measurement-systems-analysis/
LOCATION:Concept Minnesota\, 15625 Medina Rd\, Plymouth\, MN\, 55447\, United States
ATTACH;FMTTYPE=image/jpeg:https://www.conceptmachine.com/wp-content/uploads/2021/10/MeasurementSystemsAnalysis.jpg
END:VEVENT
BEGIN:VEVENT
DTSTART;TZID=America/Chicago:20240118T080000
DTEND;TZID=America/Chicago:20240119T163000
DTSTAMP:20260425T224525
CREATED:20211221T165505Z
LAST-MODIFIED:20231213T210452Z
UID:5692-1705564800-1705681800@www.conceptmachine.com
SUMMARY:Quality Training - PRINT READING FOR INDUSTRY
DESCRIPTION:This basic print reading program explains the importance of engineering drawings in manufacturing and thoroughly describes the generation and duplication of such drawings. It discusses the basic elements of a blueprint and introduces the concepts which students must master to successfully interpret engineering drawings. No prior knowledge of drafting or drawing is assumed. This blueprint reading training covers the principles of shop sketching\, basic review of shop mathematics\, and use of common measuring tools. \nRegister here.
URL:https://www.conceptmachine.com/event/quality-training-blueprint-reading-for-industry-2/
LOCATION:Concept Minnesota\, 15625 Medina Rd\, Plymouth\, MN\, 55447\, United States
END:VEVENT
BEGIN:VEVENT
DTSTART;TZID=America/Chicago:20240111T080000
DTEND;TZID=America/Chicago:20240112T163000
DTSTAMP:20260425T224525
CREATED:20211221T150957Z
LAST-MODIFIED:20231213T205325Z
UID:5668-1704960000-1705077000@www.conceptmachine.com
SUMMARY:Quality Training - GD&T FUNDAMENTALS
DESCRIPTION:This program is a complete introduction to the ASME Y14.5M-2009 and Y14.5M-2018 Dimensioning and Tolerancing standards. In this GD&T training we focus on the what\, when\, why\, and how of GD&T. \nFor more details and to register visit here.
URL:https://www.conceptmachine.com/event/quality-training-gdt-fundamentals-2/
LOCATION:Concept Minnesota\, 15625 Medina Rd\, Plymouth\, MN\, 55447\, United States
ATTACH;FMTTYPE=image/png:https://www.conceptmachine.com/wp-content/uploads/2021/12/Depositphotos_27063503_GDT-768x436-1.png
END:VEVENT
BEGIN:VEVENT
DTSTART;TZID=America/Chicago:20230620T100000
DTEND;TZID=America/Chicago:20230620T140000
DTSTAMP:20260425T224525
CREATED:20230516T144244Z
LAST-MODIFIED:20230518T135440Z
UID:9056-1687255200-1687269600@www.conceptmachine.com
SUMMARY:MN Lunch and Learn: Prolink's Newest Abilities!
DESCRIPTION:Join us to get hands-on experience with Prolink’s newest abilities.\nIt’s not just QC-CALC anymore. Wouldn’t it be nice… \n\nif the quality status of the entire plant could be viewed on one screen?\nto have a summary of yesterday’s quality performance by department or product line sitting in your inbox when you come to work in the morning?\nto automate all the reports your customers demand?\nif Gage R&R’s could be done with the same software you use to collect data?\n\nLearn how they make managing and getting a payback from collected quality data easier than ever before. The combo of flexible visualization and reporting supported by unsurpassed breadth of data collection capability makes Prolink the best ROI in the industry. \nRegister below to sign up! \nPlease enable JavaScript in your browser to complete this form.Name *FirstLastCompany Name *City *State *Email *I would like to receive email updates regarding future conferencesSubmit
URL:https://www.conceptmachine.com/event/lunch-and-learn-prolinks-newest-abilities/
LOCATION:Concept Minnesota\, 15625 Medina Rd\, Plymouth\, MN\, 55447\, United States
ATTACH;FMTTYPE=image/jpeg:https://www.conceptmachine.com/wp-content/uploads/2023/05/ProlinkSoftware_withLogo.jpg
END:VEVENT
END:VCALENDAR