BEGIN:VCALENDAR
VERSION:2.0
PRODID:-//Concept - ECPv6.15.20//NONSGML v1.0//EN
CALSCALE:GREGORIAN
METHOD:PUBLISH
X-WR-CALNAME:Concept
X-ORIGINAL-URL:https://www.conceptmachine.com
X-WR-CALDESC:Events for Concept
REFRESH-INTERVAL;VALUE=DURATION:PT1H
X-Robots-Tag:noindex
X-PUBLISHED-TTL:PT1H
BEGIN:VTIMEZONE
TZID:America/Chicago
BEGIN:DAYLIGHT
TZOFFSETFROM:-0600
TZOFFSETTO:-0500
TZNAME:CDT
DTSTART:20220313T080000
END:DAYLIGHT
BEGIN:STANDARD
TZOFFSETFROM:-0500
TZOFFSETTO:-0600
TZNAME:CST
DTSTART:20221106T070000
END:STANDARD
BEGIN:DAYLIGHT
TZOFFSETFROM:-0600
TZOFFSETTO:-0500
TZNAME:CDT
DTSTART:20230312T080000
END:DAYLIGHT
BEGIN:STANDARD
TZOFFSETFROM:-0500
TZOFFSETTO:-0600
TZNAME:CST
DTSTART:20231105T070000
END:STANDARD
BEGIN:DAYLIGHT
TZOFFSETFROM:-0600
TZOFFSETTO:-0500
TZNAME:CDT
DTSTART:20240310T080000
END:DAYLIGHT
BEGIN:STANDARD
TZOFFSETFROM:-0500
TZOFFSETTO:-0600
TZNAME:CST
DTSTART:20241103T070000
END:STANDARD
BEGIN:DAYLIGHT
TZOFFSETFROM:-0600
TZOFFSETTO:-0500
TZNAME:CDT
DTSTART:20250309T080000
END:DAYLIGHT
BEGIN:STANDARD
TZOFFSETFROM:-0500
TZOFFSETTO:-0600
TZNAME:CST
DTSTART:20251102T070000
END:STANDARD
BEGIN:DAYLIGHT
TZOFFSETFROM:-0600
TZOFFSETTO:-0500
TZNAME:CDT
DTSTART:20260308T080000
END:DAYLIGHT
BEGIN:STANDARD
TZOFFSETFROM:-0500
TZOFFSETTO:-0600
TZNAME:CST
DTSTART:20261101T070000
END:STANDARD
END:VTIMEZONE
BEGIN:VEVENT
DTSTART;TZID=America/Chicago:20251211T080000
DTEND;TZID=America/Chicago:20251212T163000
DTSTAMP:20260425T210150
CREATED:20240514T195838Z
LAST-MODIFIED:20251105T160517Z
UID:9820-1765440000-1765557000@www.conceptmachine.com
SUMMARY:GD&T Fundamentals Quality Training Class
DESCRIPTION:This GD&T Fundamentals training workshop introduces the student to the basics of the Geometric Dimensioning and Tolerancing of the ASME Y14.5M-2018 standard. It covers terms\, definitions\, and rules\, followed by a close look at the purpose for each of the 14 GD&T symbols. \nUSD $850 \nCourse Delivery: In-Person Training \nSee GD&T Fundamentals page for full course description and all course delivery options.  \nEvent Details \n\nStart date: December 11\, 2025\nEnd date: December 12\, 2025\nStart time: 08:00 a.m. CDT\nEnd time: 04:30 p.m. CDT\nVenue: Concept training facility in Plymouth\, MN\n\nREGISTER HERE
URL:https://www.conceptmachine.com/event/gdt-fundamentals/
LOCATION:Concept Minnesota\, 15625 Medina Rd\, Plymouth\, MN\, 55447\, United States
ATTACH;FMTTYPE=image/png:https://www.conceptmachine.com/wp-content/uploads/2021/12/Depositphotos_27063503_GDT-768x436-1.png
END:VEVENT
BEGIN:VEVENT
DTSTART;TZID=America/Chicago:20251119T083000
DTEND;TZID=America/Chicago:20251119T150000
DTSTAMP:20260425T210150
CREATED:20240129T193740Z
LAST-MODIFIED:20251117T141833Z
UID:11540-1763541000-1763564400@www.conceptmachine.com
SUMMARY:ZEISS CALYPSO Users Group at Concept Minnesota
DESCRIPTION:Back by popular demand\, Concept is excited to announce the return of the ZEISS CALYPSO Users Group in November 2025. \nThis one-day technical training and networking event is a great way to get even more productivity out of your ZEISS Systems. Learn tips\, techniques and best practices from the Concept applications team as well as your fellow ZEISS CALYPSO users. \nMake plans now to attend on: \n\nTuesday\, November 18th\nOR Wednesday\, November 19th\n\nRegardless of if you’re an existing ZEISS CALYPSO expert or just getting started – this event will be a great refresher for any current user. \nTOPICS that will be covered: \n\nNEW features & functionality in ZEISS CALYPSO 2025\nOffline Planner / Simulation / Stylus Creator\nO-Inspect new functions and optimization\n\nLunch and refreshments will be provided for all attendees\, compliments of Concept and ZEISS. \nREGISTRATION CLOSED
URL:https://www.conceptmachine.com/event/zeiss-calypso-users-group-at-concept-minnesota/2025-11-19/
LOCATION:Concept Minnesota\, 15625 Medina Rd\, Plymouth\, MN\, 55447\, United States
ATTACH;FMTTYPE=image/jpeg:https://www.conceptmachine.com/wp-content/uploads/2023/11/2024-Calypso-Event-Header.jpg
END:VEVENT
BEGIN:VEVENT
DTSTART;TZID=America/Chicago:20251118T083000
DTEND;TZID=America/Chicago:20251118T150000
DTSTAMP:20260425T210150
CREATED:20240129T193740Z
LAST-MODIFIED:20251117T141832Z
UID:9491-1763454600-1763478000@www.conceptmachine.com
SUMMARY:ZEISS CALYPSO Users Group at Concept Minnesota
DESCRIPTION:Back by popular demand\, Concept is excited to announce the return of the ZEISS CALYPSO Users Group in November 2025. \nThis one-day technical training and networking event is a great way to get even more productivity out of your ZEISS Systems. Learn tips\, techniques and best practices from the Concept applications team as well as your fellow ZEISS CALYPSO users. \nMake plans now to attend on: \n\nTuesday\, November 18th\nOR Wednesday\, November 19th\n\nRegardless of if you’re an existing ZEISS CALYPSO expert or just getting started – this event will be a great refresher for any current user. \nTOPICS that will be covered: \n\nNEW features & functionality in ZEISS CALYPSO 2025\nOffline Planner / Simulation / Stylus Creator\nO-Inspect new functions and optimization\n\nLunch and refreshments will be provided for all attendees\, compliments of Concept and ZEISS. \nREGISTRATION CLOSED
URL:https://www.conceptmachine.com/event/zeiss-calypso-users-group-at-concept-minnesota/2025-11-18/
LOCATION:Concept Minnesota\, 15625 Medina Rd\, Plymouth\, MN\, 55447\, United States
ATTACH;FMTTYPE=image/jpeg:https://www.conceptmachine.com/wp-content/uploads/2023/11/2024-Calypso-Event-Header.jpg
END:VEVENT
BEGIN:VEVENT
DTSTART;TZID=America/Chicago:20250827T080000
DTEND;TZID=America/Chicago:20250828T163000
DTSTAMP:20260425T210150
CREATED:20250421T175646Z
LAST-MODIFIED:20250701T140504Z
UID:10583-1756281600-1756398600@www.conceptmachine.com
SUMMARY:Quality Training - Measurement Uncertainty Budgets
DESCRIPTION:This workshop presents a combination of lecture and classroom exercises to demonstrate the principles of measurement uncertainty analysis. \nAll measurements are subject to uncertainty and a measured value is only complete if it is accompanied by a statement of the associated uncertainty. This class will help you calculate the probability of the uncertainty and ensure your measurement system is compliant with ISO 17025. Covered in the training will be basic terminology\, basic statistical concepts\, computations and correlations\, as well as how to analyze and interpret data. Within this class we will also review the ISO Guide to the Expression of Uncertainty in Measurement (GUM). \nRegister here.
URL:https://www.conceptmachine.com/event/quality-training-measurement-uncertainty-budgets-2/
LOCATION:Concept Minnesota\, 15625 Medina Rd\, Plymouth\, MN\, 55447\, United States
ATTACH;FMTTYPE=image/jpeg:https://www.conceptmachine.com/wp-content/uploads/2021/12/Measurement-Uncertainty-Budgets-scaled-1.jpg
END:VEVENT
BEGIN:VEVENT
DTSTART;TZID=America/Chicago:20250821T080000
DTEND;TZID=America/Chicago:20250822T163000
DTSTAMP:20260425T210150
CREATED:20230306T185742Z
LAST-MODIFIED:20250701T140209Z
UID:8955-1755763200-1755880200@www.conceptmachine.com
SUMMARY:Quality Training: INTRODUCTION TO RELIABILITY ENGINEERING
DESCRIPTION:QC Training Services’ Introduction to Reliability Engineering workshop introduces commonly used Reliability Engineering tools and methods. The course covers a wide range of Reliability Engineering topics and is intended for engineers who need or want a working understanding of the methods available for Reliability Engineering and/or who want to decide whether to pursue a more in-depth study of Reliability Engineering. \nRegister here.
URL:https://www.conceptmachine.com/event/quality-training-introduction-to-reliability-engineering/
LOCATION:Concept Minnesota\, 15625 Medina Rd\, Plymouth\, MN\, 55447\, United States
ATTACH;FMTTYPE=image/jpeg:https://www.conceptmachine.com/wp-content/uploads/2023/03/Intro-to-Reliability-Eng-scaled-1.jpg
END:VEVENT
BEGIN:VEVENT
DTSTART;TZID=America/Chicago:20250731T080000
DTEND;TZID=America/Chicago:20250801T163000
DTSTAMP:20260425T210150
CREATED:20211221T155921Z
LAST-MODIFIED:20250701T140759Z
UID:5675-1753948800-1754065800@www.conceptmachine.com
SUMMARY:Quality Training - Print Reading for Industry
DESCRIPTION:This Print Reading for Industry course is a practical\, application-based program that is based on current ANSI standards and includes input from a broad cross-section of industries. \n\nFor more details and to register visit here.
URL:https://www.conceptmachine.com/event/quality-training-quality-101-foundational-concepts/
LOCATION:Concept Minnesota\, 15625 Medina Rd\, Plymouth\, MN\, 55447\, United States
ATTACH;FMTTYPE=image/jpeg:https://www.conceptmachine.com/wp-content/uploads/2021/12/Print-reading-for-Industry.jpg
END:VEVENT
BEGIN:VEVENT
DTSTART;TZID=America/Chicago:20250715T080000
DTEND;TZID=America/Chicago:20250716T163000
DTSTAMP:20260425T210150
CREATED:20240702T155243Z
LAST-MODIFIED:20250701T140339Z
UID:9926-1752566400-1752683400@www.conceptmachine.com
SUMMARY:Quality Training - Measurement Systems Analysis
DESCRIPTION:In our Measurement Systems Analysis training\, attendees will discover the amounts and types of variations that exist in measurement systems\, to ensure that product acceptance or process control decisions are based on “good data.” Students will learn how to conduct studies to evaluate variability due to bias\, repeatability\, reproducibility\, stability\, and linearity. \nFor more details and to register visit here.
URL:https://www.conceptmachine.com/event/quality-training-measurement-systems-analysis-2/
LOCATION:Concept Minnesota\, 15625 Medina Rd\, Plymouth\, MN\, 55447\, United States
ATTACH;FMTTYPE=image/jpeg:https://www.conceptmachine.com/wp-content/uploads/2021/10/MeasurementSystemsAnalysis.jpg
END:VEVENT
BEGIN:VEVENT
DTSTART;TZID=America/Chicago:20250626T080000
DTEND;TZID=America/Chicago:20250627T163000
DTSTAMP:20260425T210150
CREATED:20240514T195545Z
LAST-MODIFIED:20250421T125536Z
UID:9818-1750924800-1751041800@www.conceptmachine.com
SUMMARY:Quality Training - Quality 101 Foundational Concepts
DESCRIPTION:This class is designed to spark a fire for the love of Quality through an introduction of what quality is and its benefits. This class explores the main areas of Quality – foundational concepts and vocabulary\, basic tools and methods\, and tools that can be applied on the job immediately. \nRegister here
URL:https://www.conceptmachine.com/event/quality-101-foundational-concepts-class/
LOCATION:Concept Minnesota\, 15625 Medina Rd\, Plymouth\, MN\, 55447\, United States
ATTACH;FMTTYPE=image/jpeg:https://www.conceptmachine.com/wp-content/uploads/2021/12/Depositphotos_27250765_original-scaled-1.jpg
END:VEVENT
BEGIN:VEVENT
DTSTART;TZID=America/Chicago:20250501T080000
DTEND;TZID=America/Chicago:20250502T163000
DTSTAMP:20260425T210150
CREATED:20230127T160129Z
LAST-MODIFIED:20250421T124346Z
UID:8628-1746086400-1746203400@www.conceptmachine.com
SUMMARY:Quality Training - Measurement Systems Analysis
DESCRIPTION:Attendees will discover the amounts and types of variations that exist in measurement systems\, to ensure that product acceptance or process control decisions are based on “good data.” In this class\, attendees will learn how to conduct studies to evaluate variability due to bias\, repeatability\, reproducibility\, stability\, and linearity. \nThis program provides a fundamental and practical review of Measurement Systems Analysis. MSA is an excellent quality tool to use with any quality system and has direct application to ISO/IATF 16949. This course is recommended for anyone involved in quality planning or involved in the implementation of ISO/IATF 16949 and third-party auditors. Reference the complete Course Description and Agenda for additional details. \nTo register for the event visit here.
URL:https://www.conceptmachine.com/event/quality-training-measurement-system-analysis/
LOCATION:Concept Minnesota\, 15625 Medina Rd\, Plymouth\, MN\, 55447\, United States
ATTACH;FMTTYPE=image/jpeg:https://www.conceptmachine.com/wp-content/uploads/2021/10/MeasurementSystemsAnalysis.jpg
END:VEVENT
BEGIN:VEVENT
DTSTART;TZID=America/Chicago:20240815T080000
DTEND;TZID=America/Chicago:20240816T163000
DTSTAMP:20260425T210150
CREATED:20211221T170027Z
LAST-MODIFIED:20240702T153330Z
UID:5694-1723708800-1723825800@www.conceptmachine.com
SUMMARY:Quality Training - Dimensional Measurement Tools (Basics)
DESCRIPTION:QC Training Services’ Dimensional Measurement Tools – Basics class is an introduction to some of the most common gages used on the shop floor. The purpose is to provide practical instruction on the different tools available and their proper use to build workers’ skill and knowledge. \nTo register visit here.
URL:https://www.conceptmachine.com/event/https-qctraininginc-com-class-dimensional-measurement-tools-basics-class-aug-10-11-2023-minneapolis-mn/
LOCATION:Concept Minnesota\, 15625 Medina Rd\, Plymouth\, MN\, 55447\, United States
ATTACH;FMTTYPE=image/jpeg:https://www.conceptmachine.com/wp-content/uploads/2021/12/Dimensional-Measurement-Tools.jpg
END:VEVENT
BEGIN:VEVENT
DTSTART;TZID=America/Chicago:20240814T080000
DTEND;TZID=America/Chicago:20240816T163000
DTSTAMP:20260425T210150
CREATED:20240702T153952Z
LAST-MODIFIED:20240723T143733Z
UID:9922-1723622400-1723825800@www.conceptmachine.com
SUMMARY:Quality Training - Gage Calibration Methods
DESCRIPTION:This 3-day hands-on workshop offers specialized training in calibration and repair for the individual who has some knowledge of basic Metrology. Attendees will be equipped with the knowledge to meet current and future calibration needs\, be prepared to save the company money on calibrations\, and grow professionally. \nVisit here to register.
URL:https://www.conceptmachine.com/event/quality-training-gage-calibration-methods/
LOCATION:Concept Minnesota\, 15625 Medina Rd\, Plymouth\, MN\, 55447\, United States
ATTACH;FMTTYPE=image/jpeg:https://www.conceptmachine.com/wp-content/uploads/2024/07/Gage-Cal-1-768x512-1.jpg
END:VEVENT
BEGIN:VEVENT
DTSTART;TZID=America/Chicago:20240306T113000
DTEND;TZID=America/Chicago:20240306T140000
DTSTAMP:20260425T210150
CREATED:20240208T164746Z
LAST-MODIFIED:20240219T133107Z
UID:9529-1709724600-1709733600@www.conceptmachine.com
SUMMARY:Swiss-style Machining Lunch and Learn
DESCRIPTION:Unsure on how Swiss-style machining can benefit you? Join us for an introduction!\nWhat is Swiss-style machining? Identify and learn what a typical Swiss part is and what makes Swiss-style machines the best option for producing them. Learn what you’ve been missing on March 6\, 2024! \nSchedule:\n\nLunch served at 11:30 am\nIntroduction to Swiss presentation from 12:00 pm – 1:00 pm\nSwiss machining demonstrations from 1:00 pm – 2:00 pm on our showroom floor\n\nTopics:\n\nIntroduction to Swiss-style machines\nWhat makes a Swiss machine different from a typical lathe\, and what are the benefits?\nMachining modes including conventional turning ability (chucker mode)\nVarious machine configurations and benefits of each\nTooling\, workholding\, and material handling\nProgramming\, setup and operation\n\nREGISTER BELOW!\nPlease enable JavaScript in your browser to complete this form.Name *FirstLastCompany Name *City *State *Email *I would like to receive email updates regarding future conferencesSubmit
URL:https://www.conceptmachine.com/event/swiss-style-machining-lunch-and-learn/
LOCATION:Concept Minnesota\, 15625 Medina Rd\, Plymouth\, MN\, 55447\, United States
ATTACH;FMTTYPE=image/jpeg:https://www.conceptmachine.com/wp-content/uploads/2024/02/Star-Header-scaled.jpg
END:VEVENT
BEGIN:VEVENT
DTSTART;TZID=America/Chicago:20240220T080000
DTEND;TZID=America/Chicago:20240221T163000
DTSTAMP:20260425T210150
CREATED:20211014T151722Z
LAST-MODIFIED:20231213T210135Z
UID:5240-1708416000-1708533000@www.conceptmachine.com
SUMMARY:Quality Training: MEASUREMENT SYSTEMS ANALYSIS
DESCRIPTION:This program provides a fundamental and practical review of Measurement Systems Analysis. MSA is an excellent quality tool to use with any quality system and has direct application to ISO/IATF 16949. This course is recommended for anyone involved in quality planning or involved in the implementation of ISO/IATF 16949 and third-party auditors. Reference the complete Course Description and Agenda for additional details. \nTo register for this class visit here.
URL:https://www.conceptmachine.com/event/quality-training-measurement-systems-analysis/
LOCATION:Concept Minnesota\, 15625 Medina Rd\, Plymouth\, MN\, 55447\, United States
ATTACH;FMTTYPE=image/jpeg:https://www.conceptmachine.com/wp-content/uploads/2021/10/MeasurementSystemsAnalysis.jpg
END:VEVENT
BEGIN:VEVENT
DTSTART;TZID=America/Chicago:20240118T080000
DTEND;TZID=America/Chicago:20240119T163000
DTSTAMP:20260425T210150
CREATED:20211221T165505Z
LAST-MODIFIED:20231213T210452Z
UID:5692-1705564800-1705681800@www.conceptmachine.com
SUMMARY:Quality Training - PRINT READING FOR INDUSTRY
DESCRIPTION:This basic print reading program explains the importance of engineering drawings in manufacturing and thoroughly describes the generation and duplication of such drawings. It discusses the basic elements of a blueprint and introduces the concepts which students must master to successfully interpret engineering drawings. No prior knowledge of drafting or drawing is assumed. This blueprint reading training covers the principles of shop sketching\, basic review of shop mathematics\, and use of common measuring tools. \nRegister here.
URL:https://www.conceptmachine.com/event/quality-training-blueprint-reading-for-industry-2/
LOCATION:Concept Minnesota\, 15625 Medina Rd\, Plymouth\, MN\, 55447\, United States
END:VEVENT
BEGIN:VEVENT
DTSTART;TZID=America/Chicago:20240111T080000
DTEND;TZID=America/Chicago:20240112T163000
DTSTAMP:20260425T210150
CREATED:20211221T150957Z
LAST-MODIFIED:20231213T205325Z
UID:5668-1704960000-1705077000@www.conceptmachine.com
SUMMARY:Quality Training - GD&T FUNDAMENTALS
DESCRIPTION:This program is a complete introduction to the ASME Y14.5M-2009 and Y14.5M-2018 Dimensioning and Tolerancing standards. In this GD&T training we focus on the what\, when\, why\, and how of GD&T. \nFor more details and to register visit here.
URL:https://www.conceptmachine.com/event/quality-training-gdt-fundamentals-2/
LOCATION:Concept Minnesota\, 15625 Medina Rd\, Plymouth\, MN\, 55447\, United States
ATTACH;FMTTYPE=image/png:https://www.conceptmachine.com/wp-content/uploads/2021/12/Depositphotos_27063503_GDT-768x436-1.png
END:VEVENT
BEGIN:VEVENT
DTSTART;TZID=America/Chicago:20230620T100000
DTEND;TZID=America/Chicago:20230620T140000
DTSTAMP:20260425T210150
CREATED:20230516T144244Z
LAST-MODIFIED:20230518T135440Z
UID:9056-1687255200-1687269600@www.conceptmachine.com
SUMMARY:MN Lunch and Learn: Prolink's Newest Abilities!
DESCRIPTION:Join us to get hands-on experience with Prolink’s newest abilities.\nIt’s not just QC-CALC anymore. Wouldn’t it be nice… \n\nif the quality status of the entire plant could be viewed on one screen?\nto have a summary of yesterday’s quality performance by department or product line sitting in your inbox when you come to work in the morning?\nto automate all the reports your customers demand?\nif Gage R&R’s could be done with the same software you use to collect data?\n\nLearn how they make managing and getting a payback from collected quality data easier than ever before. The combo of flexible visualization and reporting supported by unsurpassed breadth of data collection capability makes Prolink the best ROI in the industry. \nRegister below to sign up! \nPlease enable JavaScript in your browser to complete this form.Name *FirstLastCompany Name *City *State *Email *I would like to receive email updates regarding future conferencesSubmit
URL:https://www.conceptmachine.com/event/lunch-and-learn-prolinks-newest-abilities/
LOCATION:Concept Minnesota\, 15625 Medina Rd\, Plymouth\, MN\, 55447\, United States
ATTACH;FMTTYPE=image/jpeg:https://www.conceptmachine.com/wp-content/uploads/2023/05/ProlinkSoftware_withLogo.jpg
END:VEVENT
END:VCALENDAR