BEGIN:VCALENDAR
VERSION:2.0
PRODID:-//Concept - ECPv6.15.20//NONSGML v1.0//EN
CALSCALE:GREGORIAN
METHOD:PUBLISH
X-WR-CALNAME:Concept
X-ORIGINAL-URL:https://www.conceptmachine.com
X-WR-CALDESC:Events for Concept
REFRESH-INTERVAL;VALUE=DURATION:PT1H
X-Robots-Tag:noindex
X-PUBLISHED-TTL:PT1H
BEGIN:VTIMEZONE
TZID:America/Chicago
BEGIN:DAYLIGHT
TZOFFSETFROM:-0600
TZOFFSETTO:-0500
TZNAME:CDT
DTSTART:20200308T080000
END:DAYLIGHT
BEGIN:STANDARD
TZOFFSETFROM:-0500
TZOFFSETTO:-0600
TZNAME:CST
DTSTART:20201101T070000
END:STANDARD
BEGIN:DAYLIGHT
TZOFFSETFROM:-0600
TZOFFSETTO:-0500
TZNAME:CDT
DTSTART:20210314T080000
END:DAYLIGHT
BEGIN:STANDARD
TZOFFSETFROM:-0500
TZOFFSETTO:-0600
TZNAME:CST
DTSTART:20211107T070000
END:STANDARD
BEGIN:DAYLIGHT
TZOFFSETFROM:-0600
TZOFFSETTO:-0500
TZNAME:CDT
DTSTART:20220313T080000
END:DAYLIGHT
BEGIN:STANDARD
TZOFFSETFROM:-0500
TZOFFSETTO:-0600
TZNAME:CST
DTSTART:20221106T070000
END:STANDARD
END:VTIMEZONE
BEGIN:VEVENT
DTSTART;TZID=America/Chicago:20211026T130000
DTEND;TZID=America/Chicago:20211028T160000
DTSTAMP:20260425T192238
CREATED:20211020T201320Z
LAST-MODIFIED:20211020T201320Z
UID:5262-1635253200-1635436800@www.conceptmachine.com
SUMMARY:WITS Show 2021
DESCRIPTION:The Wichita Industrial Trade Show (WITS) will be held at Century II Expo Hall 225 W. Douglas\, Wichita KS. Since 1974\, WITS has been a significant marketplace for buyers in the Midwest. The Show has exhibitors from all sectors of our industrial community to present their services\, machinery and equipment to the manufacturing community. Admission to the Exhibitor Area and the Seminars are FREE. No one under 14 years of age. \nVisit the event website here to register: https://www.witshow.org/
URL:https://www.conceptmachine.com/event/wits-show-2021/
LOCATION:Century II Expo Hall\, Wichita\, KS\, 225 W. Douglas\, Wichita\, KS\, 67202\, United States
ATTACH;FMTTYPE=image/jpeg:https://www.conceptmachine.com/wp-content/uploads/2021/10/WITS-1.jpg
END:VEVENT
END:VCALENDAR