BEGIN:VCALENDAR
VERSION:2.0
PRODID:-//Concept - ECPv6.15.20//NONSGML v1.0//EN
CALSCALE:GREGORIAN
METHOD:PUBLISH
X-WR-CALNAME:Concept
X-ORIGINAL-URL:https://www.conceptmachine.com
X-WR-CALDESC:Events for Concept
REFRESH-INTERVAL;VALUE=DURATION:PT1H
X-Robots-Tag:noindex
X-PUBLISHED-TTL:PT1H
BEGIN:VTIMEZONE
TZID:America/Chicago
BEGIN:DAYLIGHT
TZOFFSETFROM:-0600
TZOFFSETTO:-0500
TZNAME:CDT
DTSTART:20210314T080000
END:DAYLIGHT
BEGIN:STANDARD
TZOFFSETFROM:-0500
TZOFFSETTO:-0600
TZNAME:CST
DTSTART:20211107T070000
END:STANDARD
BEGIN:DAYLIGHT
TZOFFSETFROM:-0600
TZOFFSETTO:-0500
TZNAME:CDT
DTSTART:20220313T080000
END:DAYLIGHT
BEGIN:STANDARD
TZOFFSETFROM:-0500
TZOFFSETTO:-0600
TZNAME:CST
DTSTART:20221106T070000
END:STANDARD
BEGIN:DAYLIGHT
TZOFFSETFROM:-0600
TZOFFSETTO:-0500
TZNAME:CDT
DTSTART:20230312T080000
END:DAYLIGHT
BEGIN:STANDARD
TZOFFSETFROM:-0500
TZOFFSETTO:-0600
TZNAME:CST
DTSTART:20231105T070000
END:STANDARD
END:VTIMEZONE
BEGIN:VEVENT
DTSTART;TZID=America/Chicago:20220301T080000
DTEND;TZID=America/Chicago:20220301T170000
DTSTAMP:20260425T225202
CREATED:20211221T162252Z
LAST-MODIFIED:20211221T170256Z
UID:5684-1646121600-1646154000@www.conceptmachine.com
SUMMARY:B.C. MacDonald's Hands On Metrology Event - Saint Louis
DESCRIPTION:#HandsOnMetrology Tour Event\, a joint initiative powered by ZEISS and GOM. During four short workshops\, you will get a first-hand view of four 3D scanning solutions – and discover what they can do for your business: \nGOM Scan 1 \nT-SCAN hawk \nT-SCAN \nATOS Q \nRegister here: https://bcmac.com/event/st-louis-hands-on-metrology-event/
URL:https://www.conceptmachine.com/event/b-c-macdonalds-hands-on-metrology-event/
LOCATION:B.C. MacDonald & Co.\, 1265 Research Blvd.\, St. Louis\, MO\, 63132\, United States
ATTACH;FMTTYPE=image/jpeg:https://www.conceptmachine.com/wp-content/uploads/2021/12/StLouis-HOM-Event.jpg
END:VEVENT
END:VCALENDAR