BEGIN:VCALENDAR
VERSION:2.0
PRODID:-//Concept - ECPv6.15.20//NONSGML v1.0//EN
CALSCALE:GREGORIAN
METHOD:PUBLISH
X-WR-CALNAME:Concept
X-ORIGINAL-URL:https://www.conceptmachine.com
X-WR-CALDESC:Events for Concept
REFRESH-INTERVAL;VALUE=DURATION:PT1H
X-Robots-Tag:noindex
X-PUBLISHED-TTL:PT1H
BEGIN:VTIMEZONE
TZID:America/Chicago
BEGIN:DAYLIGHT
TZOFFSETFROM:-0600
TZOFFSETTO:-0500
TZNAME:CDT
DTSTART:20250309T080000
END:DAYLIGHT
BEGIN:STANDARD
TZOFFSETFROM:-0500
TZOFFSETTO:-0600
TZNAME:CST
DTSTART:20251102T070000
END:STANDARD
BEGIN:DAYLIGHT
TZOFFSETFROM:-0600
TZOFFSETTO:-0500
TZNAME:CDT
DTSTART:20260308T080000
END:DAYLIGHT
BEGIN:STANDARD
TZOFFSETFROM:-0500
TZOFFSETTO:-0600
TZNAME:CST
DTSTART:20261101T070000
END:STANDARD
BEGIN:DAYLIGHT
TZOFFSETFROM:-0600
TZOFFSETTO:-0500
TZNAME:CDT
DTSTART:20270314T080000
END:DAYLIGHT
BEGIN:STANDARD
TZOFFSETFROM:-0500
TZOFFSETTO:-0600
TZNAME:CST
DTSTART:20271107T070000
END:STANDARD
END:VTIMEZONE
BEGIN:VEVENT
DTSTART;TZID=America/Chicago:20260512T100000
DTEND;TZID=America/Chicago:20260513T190000
DTSTAMP:20260423T071837
CREATED:20250722T133218Z
LAST-MODIFIED:20260413T163334Z
UID:9232-1778580000-1778698800@www.conceptmachine.com
SUMMARY:Join us at SteakFest 2026!
DESCRIPTION:REGISTRATION NOW OPEN UNTIL 5/8/2026!\nREGISTER HERE \n\nMay 12th-13th\, 2026 at our Delafield\, WI location. 10:00am – 7:00pm daily.\nTake a look at the newest machines\, automation\, metrology solutions and more! Plus\, great food\, drinks\, and giveaways!\n\nLive cutting\nAutomation demonstrations\nMetrology demonstrations (3D scanners\, optical\, CMMs)\nThe latest in tooling\, accessories and software\nEducational seminars (available to sign up during registration)\nAmazing giveaways\nIndustry networking\nand don’t forget about the steak!\n\nSeminar topics: \n\nIntroduction to 5-Axis Machining: Unlocking Precision and Complexity\nDimensional Metrology – A Hierarchy of Measurement Solutions [FULL]\nThe Automation Revolution and Concept Automation: All the automation options and how we can help you expand your automation capabilities [FULL]\nEconomic Outlook 2026\nSwiss Lathes & Turning: Everything you need to know about Swiss-style machining\nPrecision and Compliance: The Critical Role of Calibration and Asset Management in Modern Labs\nGD&T High-Level Overview\n\nREGISTER HERE \n 
URL:https://www.conceptmachine.com/event/steakfest-2026-open-house/
LOCATION:Concept Wisconsin\, 407 Austin Circle\, Delafield\, WI\, 53018\, United States
ATTACH;FMTTYPE=image/png:https://www.conceptmachine.com/wp-content/uploads/2025/07/Email-and-Webpage-Header-Steakfest-2026-scaled.png
END:VEVENT
END:VCALENDAR